BEGIN:VCALENDAR
VERSION:2.0
PRODID:-//JU Muzej i galerija Tivat - ECPv6.15.20//NONSGML v1.0//EN
CALSCALE:GREGORIAN
METHOD:PUBLISH
X-WR-CALNAME:JU Muzej i galerija Tivat
X-ORIGINAL-URL:https://muzejigalerijativat.me
X-WR-CALDESC:Events for JU Muzej i galerija Tivat
REFRESH-INTERVAL;VALUE=DURATION:PT1H
X-Robots-Tag:noindex
X-PUBLISHED-TTL:PT1H
BEGIN:VTIMEZONE
TZID:UTC
BEGIN:STANDARD
TZOFFSETFROM:+0000
TZOFFSETTO:+0000
TZNAME:UTC
DTSTART:20230101T000000
END:STANDARD
END:VTIMEZONE
BEGIN:VEVENT
DTSTART;VALUE=DATE:20240830
DTEND;VALUE=DATE:20240923
DTSTAMP:20260422T031325
CREATED:20240830T132705Z
LAST-MODIFIED:20240830T133320Z
UID:2893-1724976000-1727049599@muzejigalerijativat.me
SUMMARY:Izložba „Znamenite srpske Majke“
DESCRIPTION:U petak 30. avgusta sa početkom u 20.00 časova u JU „Muzej i galerija“ Tivat biće otvorena izložba „Znamenite srpske Majke“ akademskog vajara Đorđa Zečevića. \nĐorđe Zečević je rođen 1976. godine u Šapcu. Nakon završene gimnazije 1995. godine upisuje Akademiju umetnosti u Novom Sadu u klasi profesora Nikole Koke Jankovića\, a diplomira u klasi Gordane Kaljalović Odanović 1999. godine\, tom prilikom dobija Nagradu Akademije za vajarstvo. \nOd tada\, svoj rad publici prezentuje na više samostalnih i više od 30 kolektivnih izložbi. Učesnik je više kolonija i ima više izvedenih radova u javnom prostoru- skulpturu Vir – Aneks biblioteke šabačke\, monumentalne murale posvećene Dragi Ljočić i Stani Milanović\, spomen ploče. Dobitnik je nagrade Igor Belohlavek Šabačkog muzeja kao i nagrade za crtež galerije Kulturnog centra Šabac. Od 1999. godine radi u Školi primenjenih umetnosti u Šapcu na predmetima vajanje\, praktičan rad. Živi i radi u Šapcu. \nIzložbu će otvoriti mitropolit crnogorsko-primorski g. Joanikije\, a u muzičkom dijelu programa nastupiće crkveni mješoviti hor „Sveti Prevlački mučenici“ iz Tivta.
URL:https://muzejigalerijativat.me/dogadjaj/izlozba-znamenite-srpske-majke/
CATEGORIES:Izložba
ATTACH;FMTTYPE=image/jpeg:https://muzejigalerijativat.me/wp-content/uploads/2024/08/15-Ivana-Tomova-Petrovic.jpg
END:VEVENT
END:VCALENDAR